BEGIN:VCALENDAR
VERSION:2.0
PRODID:-//Kulvio Event Calendar//kulvio.de//
CALSCALE:GREGORIAN
METHOD:PUBLISH
BEGIN:VEVENT
SUMMARY:29. Bad Sodener Weintage - Abschluss
DTSTART:20260531T130000Z
DTEND:20260531T215900Z
DTSTAMP:20260421T042813Z
UID:kulvio-event-2510@kulvio.de
CATEGORIES:Tasting,Open-Air
CREATED:20260419T151108Z
DESCRIPTION:Der letzte Tag der 29. Bad Sodener Weintage lädt zum Ausklang
  ins gemütliche Weindorf im Alten Kurpark ein. Winzer aus den besten Anba
 ugebieten Deutschlands schenken ihre Weine aus\, dazu gibt es regionale Sp
 ezialitäten und Live-Musik. Am Abschluss-Sonntag öffnet das Weindorf um 
 15 Uhr.
GEO:50.145475;8.50219
LAST-MODIFIED:20260419T151543Z
LOCATION:Alter Kurpark\, Königsteiner Straße 86\, 65812\, Bad Soden am T
 aunus
STATUS:CONFIRMED
URL:https://kulvio.de/event/2510
END:VEVENT
END:VCALENDAR
