BEGIN:VCALENDAR
VERSION:2.0
PRODID:-//Kulvio Event Calendar//kulvio.de//
CALSCALE:GREGORIAN
METHOD:PUBLISH
BEGIN:VEVENT
SUMMARY:Sommerlounge Konzert: SMART
DTSTART:20260606T170000Z
DTEND:20260606T180000Z
DTSTAMP:20260421T035327Z
UID:kulvio-event-2511@kulvio.de
CATEGORIES:Konzert,Open-Air
CREATED:20260419T151108Z
DESCRIPTION:Die Band SMART spielt im Rahmen der Sommerlounge-Konzertreihe 
 in der Konzertmuschel im Alten Kurpark in Bad Soden am Taunus. SMART steht
  für NDW\, Deutschpop und Punkrock und bringt deutschsprachige Hits auf d
 ie Bühne. Das Konzert beginnt um 19 Uhr\, der Eintritt ist frei. Lokale V
 ereine sorgen für Getränke und Speisen.
GEO:50.145475;8.50219
LAST-MODIFIED:20260419T151543Z
LOCATION:Alter Kurpark\, Königsteiner Straße 86\, 65812\, Bad Soden am T
 aunus
STATUS:CONFIRMED
URL:https://kulvio.de/event/2511
END:VEVENT
END:VCALENDAR
