BEGIN:VCALENDAR
VERSION:2.0
PRODID:-//Kulvio Event Calendar//kulvio.de//
CALSCALE:GREGORIAN
METHOD:PUBLISH
BEGIN:VEVENT
SUMMARY:Sommerlounge Konzert: DIVA
DTSTART:20260613T170000Z
DTEND:20260613T180000Z
DTSTAMP:20260421T035329Z
UID:kulvio-event-2512@kulvio.de
CATEGORIES:Konzert,Open-Air
CREATED:20260419T151108Z
DESCRIPTION:Die Formation DIVA tritt im Rahmen der Sommerlounge-Konzertrei
 he in der Konzertmuschel im Alten Kurpark in Bad Soden am Taunus auf. Das 
 Konzert beginnt um 19 Uhr und der Eintritt ist frei. Lokale Vereine bieten
  Getränke und Speisen an. Das Konzert findet bei jedem Wetter statt.
GEO:50.145475;8.50219
LAST-MODIFIED:20260419T151543Z
LOCATION:Alter Kurpark\, Königsteiner Straße 86\, 65812\, Bad Soden am T
 aunus
STATUS:CONFIRMED
URL:https://kulvio.de/event/2512
END:VEVENT
END:VCALENDAR
