BEGIN:VCALENDAR
VERSION:2.0
PRODID:-//Kulvio Event Calendar//kulvio.de//
CALSCALE:GREGORIAN
METHOD:PUBLISH
BEGIN:VEVENT
SUMMARY:Sommerlounge Konzert: Charly Gitanos - Flamenco Reborn
DTSTART:20260620T170000Z
DTEND:20260620T180000Z
DTSTAMP:20260421T041937Z
UID:kulvio-event-2513@kulvio.de
CATEGORIES:Konzert,Open-Air
CREATED:20260419T151108Z
DESCRIPTION:Das Charly Gitanos Quartett bringt mit seinem Programm Flamenc
 o Reborn feurige Klänge in die Konzertmuschel im Alten Kurpark von Bad So
 den am Taunus. Die Band verbindet traditionellen Flamenco mit modernen Ein
 flüssen. Das Konzert beginnt um 19 Uhr und der Eintritt ist frei. Lokale 
 Vereine sorgen für Getränke und Speisen.
GEO:50.145475;8.50219
LAST-MODIFIED:20260419T151543Z
LOCATION:Alter Kurpark\, Königsteiner Straße 86\, 65812\, Bad Soden am T
 aunus
STATUS:CONFIRMED
URL:https://kulvio.de/event/2513
END:VEVENT
END:VCALENDAR
