BEGIN:VCALENDAR
VERSION:2.0
PRODID:-//Kulvio Event Calendar//kulvio.de//
CALSCALE:GREGORIAN
METHOD:PUBLISH
BEGIN:VEVENT
SUMMARY:Nachtliebessehnsucht - Chor- und Streichermusik
DTSTART:20260621T170000Z
DTEND:20260621T180000Z
DTSTAMP:20260421T042937Z
UID:kulvio-event-2514@kulvio.de
CATEGORIES:Konzert
CREATED:20260419T151109Z
DESCRIPTION:Die Gesellschaft der Musikfreunde Bad Soden präsentiert das K
 onzert Nachtliebessehnsucht im Bürgerhaus Neuenhain. Auf dem Programm ste
 ht Chor- und Streichermusik aus vier Jahrhunderten mit Werken von Vivaldi\
 , Respighi\, Monteverdi und Mendelssohn-Bartholdy. Das Konzert beginnt um 
 19 Uhr. Karten sind ab etwa vier Wochen vorher im Vorverkauf erhältlich.
GEO:50.135167;8.453635
LAST-MODIFIED:20260419T151452Z
LOCATION:Bürgerhaus Neuenhain\, Hauptstraße 45\, 65812\, Bad Soden am Ta
 unus
STATUS:CONFIRMED
URL:https://kulvio.de/event/2514
END:VEVENT
END:VCALENDAR
