BEGIN:VCALENDAR
VERSION:2.0
PRODID:-//Kulvio Event Calendar//kulvio.de//
CALSCALE:GREGORIAN
METHOD:PUBLISH
BEGIN:VEVENT
SUMMARY:Sommernachtsfest Bad Soden
DTSTART:20260815T120000Z
DTEND:20260815T215900Z
DTSTAMP:20260421T042941Z
UID:kulvio-event-2515@kulvio.de
CATEGORIES:Stadtfest,Open-Air
CREATED:20260419T151109Z
DESCRIPTION:Das Sommernachtsfest verwandelt den Alten Kurpark\, die König
 steiner Straße und die Altstadt von Bad Soden in ein großes Stadtfest. 
 Über 150 Stände bieten kulinarische Spezialitäten\, Kunsthandwerk und C
 ocktails an\, während mehr als zehn Bands auf verschiedenen Bühnen für 
 Stimmung sorgen. Am Nachmittag gibt es ein Programm für Kinder mit Spiele
 n und Aktionen. Höhepunkt ist das Feuerwerk um 23:45 Uhr auf der oberen W
 iese des Alten Kurparks.
GEO:50.145475;8.50219
LAST-MODIFIED:20260419T151543Z
LOCATION:Alter Kurpark\, Königsteiner Straße 86\, 65812\, Bad Soden am T
 aunus
STATUS:CONFIRMED
URL:https://kulvio.de/event/2515
END:VEVENT
END:VCALENDAR
