BEGIN:VCALENDAR
VERSION:2.0
PRODID:-//Kulvio Event Calendar//kulvio.de//
CALSCALE:GREGORIAN
METHOD:PUBLISH
BEGIN:VEVENT
SUMMARY:Sommerlounge Konzert: StreetLIVE Family
DTSTART:20260822T170000Z
DTEND:20260822T180000Z
DTSTAMP:20260421T084613Z
UID:kulvio-event-2516@kulvio.de
CATEGORIES:Konzert,Open-Air
CREATED:20260419T151109Z
DESCRIPTION:Die Band StreetLIVE Family spielt im Rahmen der Sommerlounge-K
 onzertreihe in der Konzertmuschel im Alten Kurpark. Die Formation bringt e
 in abwechslungsreiches Programm auf die Open-Air-Bühne. Das Konzert begin
 nt um 19 Uhr und der Eintritt ist frei. Lokale Vereine sorgen für Geträn
 ke und Speisen.
GEO:50.145475;8.50219
LAST-MODIFIED:20260419T151618Z
LOCATION:Alter Kurpark\, Königsteiner Straße 86\, 65812\, Bad Soden am T
 aunus
STATUS:CONFIRMED
URL:https://kulvio.de/event/2516
END:VEVENT
END:VCALENDAR
