BEGIN:VCALENDAR
VERSION:2.0
PRODID:-//Kulvio Event Calendar//kulvio.de//
CALSCALE:GREGORIAN
METHOD:PUBLISH
BEGIN:VEVENT
SUMMARY:Sommerlounge Konzert: Beautiful Noise - Neil Diamond Tribute
DTSTART:20260829T170000Z
DTEND:20260829T180000Z
DTSTAMP:20260421T042943Z
UID:kulvio-event-2517@kulvio.de
CATEGORIES:Konzert,Open-Air
CREATED:20260419T151109Z
DESCRIPTION:Beautiful Noise präsentiert im Rahmen der Sommerlounge-Konzer
 treihe die besten Hits von Neil Diamond in der Konzertmuschel im Alten Kur
 park. Die Tribute-Show bringt Klassiker des amerikanischen Sängers auf di
 e Open-Air-Bühne. Das Konzert beginnt um 19 Uhr und der Eintritt ist frei
 . Lokale Vereine bieten Getränke und Speisen an.
GEO:50.145475;8.50219
LAST-MODIFIED:20260419T151618Z
LOCATION:Alter Kurpark\, Königsteiner Straße 86\, 65812\, Bad Soden am T
 aunus
STATUS:CONFIRMED
URL:https://kulvio.de/event/2517
END:VEVENT
END:VCALENDAR
