BEGIN:VCALENDAR
VERSION:2.0
PRODID:-//Kulvio Event Calendar//kulvio.de//
CALSCALE:GREGORIAN
METHOD:PUBLISH
BEGIN:VEVENT
SUMMARY:Bluesabend an der Kulturscheune (Herbst)
DTSTART:20260919T160000Z
DTEND:20260919T200000Z
DTSTAMP:20260421T084615Z
UID:kulvio-event-2518@kulvio.de
CATEGORIES:Konzert
CREATED:20260419T151109Z
DESCRIPTION:Die BS Blues Allstars spielen zum Herbst-Bluesabend live an de
 r Kulturscheune in Bad Soden am Taunus. Die Band besteht aus den Stammmusi
 kern des BluesHaus Bad Soden e.V. und präsentiert handgemachten Blues. De
 r Abend läuft von 18 bis 22 Uhr\, der Eintritt ist frei. Für Speisen und
  Getränke ist gesorgt.
GEO:50.141512;8.497038
LAST-MODIFIED:20260419T151452Z
LOCATION:Kulturscheune\, Zum Quellenpark 42\, 65812\, Bad Soden am Taunus
STATUS:CONFIRMED
URL:https://kulvio.de/event/2518
END:VEVENT
END:VCALENDAR
