BEGIN:VCALENDAR
VERSION:2.0
PRODID:-//Kulvio Event Calendar//kulvio.de//
CALSCALE:GREGORIAN
METHOD:PUBLISH
BEGIN:VEVENT
SUMMARY:Neuenhainer Herbstmarkt
DTSTART:20260926T090000Z
DTEND:20260926T160000Z
DTSTAMP:20260421T035331Z
UID:kulvio-event-2519@kulvio.de
CATEGORIES:Saisonmarkt
CREATED:20260419T151109Z
DESCRIPTION:Der traditionelle Neuenhainer Herbstmarkt findet rund um den D
 alles im Stadtteil Neuenhain statt. Entlang der Hauptstraße\, Schwalbache
 r Straße und Schulstraße bieten Händler Obst\, Gemüse\, Kunsthandwerk\
 , Kleidung und Schmuck an. Dazu gibt es ein buntes Rahmenprogramm und kuli
 narische Angebote. Der Markt läuft von 11 bis 18 Uhr.
GEO:50.157149;8.492566
LAST-MODIFIED:20260419T151618Z
LOCATION:Hauptstraße 45\, Neuenhain\, 65812\, Bad Soden am Taunus
STATUS:CONFIRMED
URL:https://kulvio.de/event/2519
END:VEVENT
END:VCALENDAR
