BEGIN:VCALENDAR
VERSION:2.0
PRODID:-//Kulvio Event Calendar//kulvio.de//
CALSCALE:GREGORIAN
METHOD:PUBLISH
BEGIN:VEVENT
SUMMARY:Bad Sodener Weihnachtsmarkt - Samstag
DTSTART:20261205T140000Z
DTEND:20261205T210000Z
DTSTAMP:20260421T042814Z
UID:kulvio-event-2520@kulvio.de
CATEGORIES:Weihnachtsmarkt
CREATED:20260419T151109Z
DESCRIPTION:Der Bad Sodener Weihnachtsmarkt öffnet am zweiten Adventswoch
 enende im Alten Kurpark. In traditionellen Holzhütten bieten Händler wei
 hnachtliche Dekoration\, Geschenke\, Kunsthandwerk und kulinarische Spezia
 litäten an. Der Markt sorgt für vorweihnachtliche Stimmung im historisch
 en Kurpark. Am Samstag ist der Weihnachtsmarkt von 15 bis 22 Uhr geöffnet
 .
GEO:50.145475;8.50219
LAST-MODIFIED:20260419T151618Z
LOCATION:Alter Kurpark\, Königsteiner Straße 86\, 65812\, Bad Soden am T
 aunus
STATUS:CONFIRMED
URL:https://kulvio.de/event/2520
END:VEVENT
END:VCALENDAR
