BEGIN:VCALENDAR
VERSION:2.0
PRODID:-//Kulvio Event Calendar//kulvio.de//
CALSCALE:GREGORIAN
METHOD:PUBLISH
BEGIN:VEVENT
SUMMARY:Bad Sodener Weihnachtsmarkt - Sonntag
DTSTART:20261206T110000Z
DTEND:20261206T190000Z
DTSTAMP:20260421T041938Z
UID:kulvio-event-2521@kulvio.de
CATEGORIES:Weihnachtsmarkt
CREATED:20260419T151109Z
DESCRIPTION:Der Bad Sodener Weihnachtsmarkt lädt am zweiten Adventssonnta
 g in den Alten Kurpark ein. In traditionellen Holzhütten bieten Händler 
 weihnachtliche Dekoration\, Geschenke\, Kunsthandwerk und kulinarische Spe
 zialitäten an. Der Markt sorgt für vorweihnachtliche Stimmung im histori
 schen Kurpark. Am Sonntag ist der Weihnachtsmarkt von 12 bis 20 Uhr geöff
 net.
GEO:50.145475;8.50219
LAST-MODIFIED:20260419T151627Z
LOCATION:Alter Kurpark\, Königsteiner Straße 86\, 65812\, Bad Soden am T
 aunus
STATUS:CONFIRMED
URL:https://kulvio.de/event/2521
END:VEVENT
END:VCALENDAR
