BEGIN:VCALENDAR
VERSION:2.0
PRODID:-//Kulvio Event Calendar//kulvio.de//
CALSCALE:GREGORIAN
METHOD:PUBLISH
BEGIN:VEVENT
SUMMARY:Weihnachtskonzert der Gesellschaft der Musikfreunde
DTSTART:20261213T160000Z
DTEND:20261213T170000Z
DTSTAMP:20260421T035204Z
UID:kulvio-event-2522@kulvio.de
CATEGORIES:Konzert
CREATED:20260419T151109Z
DESCRIPTION:Die Gesellschaft der Musikfreunde Bad Soden lädt zum traditio
 nellen Weihnachtskonzert in den Mendelssohn-Saal des H+ Hotels Bad Soden e
 in. Auf dem Programm steht die Historia der Geburt Christi von Heinrich Sc
 hütz. Das Konzert beginnt um 17 Uhr und stimmt musikalisch auf die Weihna
 chtszeit ein.
GEO:50.146697;8.499966
LAST-MODIFIED:20260419T151452Z
LOCATION:H+ Hotel Bad Soden\, Königsteiner Straße 88\, 65812\, Bad Soden
  am Taunus
STATUS:CONFIRMED
URL:https://kulvio.de/event/2522
END:VEVENT
END:VCALENDAR
