BEGIN:VCALENDAR
VERSION:2.0
PRODID:-//Kulvio Event Calendar//kulvio.de//
CALSCALE:GREGORIAN
METHOD:PUBLISH
BEGIN:VEVENT
SUMMARY:Hotel Mimosa - Premiere der Burgfestspiele Eppstein
DTSTART:20260627T173000Z
DTEND:20260627T183000Z
DTSTAMP:20260421T084856Z
UID:kulvio-event-2523@kulvio.de
CATEGORIES:Theater,Open-Air
CREATED:20260419T151155Z
DESCRIPTION:Die Burgschauspieler Eppstein eröffnen die Burgfestspiele 202
 6 mit der Premiere von Hotel Mimosa auf der Freilichtbühne der Burgruine.
  Das Stück verbindet schwarzen Humor mit Pariser Bohème und großen Gef
 ühlen. Gespielt wird vor der Kulisse der fast 1000 Jahre alten Burgruine 
 hoch über dem Tal. Beginn ist um 19:30 Uhr\, Karten gibt es im Vorverkauf
  bei Frankfurt Ticket.
GEO:50.14021;8.394826
LAST-MODIFIED:20260419T151452Z
LOCATION:Burg Eppstein\, Auf der Burg\, 65817\, Eppstein
STATUS:CONFIRMED
URL:https://kulvio.de/event/2523
END:VEVENT
END:VCALENDAR
