BEGIN:VCALENDAR
VERSION:2.0
PRODID:-//Kulvio Event Calendar//kulvio.de//
CALSCALE:GREGORIAN
METHOD:PUBLISH
BEGIN:VEVENT
SUMMARY:Hotel Mimosa - Burgfestspiele Eppstein
DTSTART:20260704T173000Z
DTEND:20260704T183000Z
DTSTAMP:20260421T041934Z
UID:kulvio-event-2525@kulvio.de
CATEGORIES:Theater,Open-Air
CREATED:20260419T151155Z
DESCRIPTION:Die Burgschauspieler Eppstein zeigen Hotel Mimosa auf der Frei
 lichtbühne der Burgruine Eppstein. Das Stück verbindet schwarzen Humor m
 it Pariser Bohème und großen Gefühlen. Die Aufführung findet unter fre
 iem Himmel auf der historischen Burganlage statt. Beginn ist um 19:30 Uhr\
 , Karten gibt es im Vorverkauf bei Frankfurt Ticket.
GEO:50.14021;8.394826
LAST-MODIFIED:20260419T151452Z
LOCATION:Burg Eppstein\, Auf der Burg\, 65817\, Eppstein
STATUS:CONFIRMED
URL:https://kulvio.de/event/2525
END:VEVENT
END:VCALENDAR
