BEGIN:VCALENDAR
VERSION:2.0
PRODID:-//Kulvio Event Calendar//kulvio.de//
CALSCALE:GREGORIAN
METHOD:PUBLISH
BEGIN:VEVENT
SUMMARY:Swinging in the Mission of Sax - Burgfestspiele Eppstein
DTSTART:20260711T173000Z
DTEND:20260711T183000Z
DTSTAMP:20260421T042945Z
UID:kulvio-event-2527@kulvio.de
CATEGORIES:Konzert,Open-Air
CREATED:20260419T151155Z
DESCRIPTION:Im Rahmen der Burgfestspiele Eppstein findet ein Konzertabend 
 mit Swinging in the Mission of Sax auf der Freilichtbühne der Burgruine s
 tatt. Die Saxophon-Formation bringt swingenden Jazz und groovige Klänge i
 n die historische Kulisse. Beginn ist um 19:30 Uhr\, Karten sind im Vorver
 kauf bei Frankfurt Ticket erhältlich.
GEO:50.14021;8.394826
LAST-MODIFIED:20260419T151452Z
LOCATION:Burg Eppstein\, Auf der Burg\, 65817\, Eppstein
STATUS:CONFIRMED
URL:https://kulvio.de/event/2527
END:VEVENT
END:VCALENDAR
