BEGIN:VCALENDAR
VERSION:2.0
PRODID:-//Kulvio Event Calendar//kulvio.de//
CALSCALE:GREGORIAN
METHOD:PUBLISH
BEGIN:VEVENT
SUMMARY:La Traviata - Oper auf Burg Eppstein
DTSTART:20260718T173000Z
DTEND:20260718T183000Z
DTSTAMP:20260421T035127Z
UID:kulvio-event-2528@kulvio.de
CATEGORIES:Theater,Open-Air
CREATED:20260419T151155Z
DESCRIPTION:Giuseppe Verdis Oper La Traviata wird als Open-Air-Aufführung
  auf der Burgruine Eppstein gezeigt. Internationale Operngesangssolisten\,
  Chor und Orchester bringen das dramatische Werk auf die Freilichtbühne h
 och über dem Tal. Die historische Kulisse der fast 1000 Jahre alten Burg 
 verleiht der Aufführung einen besonderen Rahmen. Beginn ist um 19:30 Uhr.
GEO:50.14021;8.394826
LAST-MODIFIED:20260419T151452Z
LOCATION:Burg Eppstein\, Auf der Burg\, 65817\, Eppstein
STATUS:CONFIRMED
URL:https://kulvio.de/event/2528
END:VEVENT
END:VCALENDAR
