BEGIN:VCALENDAR
VERSION:2.0
PRODID:-//Kulvio Event Calendar//kulvio.de//
CALSCALE:GREGORIAN
METHOD:PUBLISH
BEGIN:VEVENT
SUMMARY:Roberto Capitoni: 60 ist das neue 40 - Burgfestspiele Eppstein
DTSTART:20260724T173000Z
DTEND:20260724T183000Z
DTSTAMP:20260421T042459Z
UID:kulvio-event-2529@kulvio.de
CATEGORIES:Comedy,Open-Air
CREATED:20260419T151155Z
DESCRIPTION:Der Comedian Roberto Capitoni gastiert mit seinem Programm 60 
 ist das neue 40 auf der Freilichtbühne der Burgruine Eppstein. In seiner 
 Comedy-Show nimmt er das Älterwerden auf die Schippe und bringt das Publi
 kum unter freiem Himmel zum Lachen. Beginn ist um 19:30 Uhr\, Karten gibt 
 es im Vorverkauf bei Frankfurt Ticket.
GEO:50.14021;8.394826
LAST-MODIFIED:20260419T151452Z
LOCATION:Burg Eppstein\, Auf der Burg\, 65817\, Eppstein
STATUS:CONFIRMED
URL:https://kulvio.de/event/2529
END:VEVENT
END:VCALENDAR
