BEGIN:VCALENDAR
VERSION:2.0
PRODID:-//Kulvio Event Calendar//kulvio.de//
CALSCALE:GREGORIAN
METHOD:PUBLISH
BEGIN:VEVENT
SUMMARY:Ein Sommernachtstraum - Burgfestspiele Eppstein
DTSTART:20260725T173000Z
DTEND:20260725T183000Z
DTSTAMP:20260421T042810Z
UID:kulvio-event-2530@kulvio.de
CATEGORIES:Theater,Open-Air
CREATED:20260419T151155Z
DESCRIPTION:Shakespeares Ein Sommernachtstraum wird als Open-Air-Aufführu
 ng auf der Freilichtbühne der Burgruine Eppstein gezeigt. Die romantische
  Komödie über Liebe\, Magie und Verwechslung entfaltet sich vor der Kuli
 sse der historischen Burg. Die Aufführung beginnt um 19:30 Uhr\, Karten s
 ind im Vorverkauf bei Frankfurt Ticket erhältlich.
GEO:50.14021;8.394826
LAST-MODIFIED:20260419T151452Z
LOCATION:Burg Eppstein\, Auf der Burg\, 65817\, Eppstein
STATUS:CONFIRMED
URL:https://kulvio.de/event/2530
END:VEVENT
END:VCALENDAR
