BEGIN:VCALENDAR
VERSION:2.0
PRODID:-//Kulvio Event Calendar//kulvio.de//
CALSCALE:GREGORIAN
METHOD:PUBLISH
BEGIN:VEVENT
SUMMARY:Burgfest Eppstein - Freitag
DTSTART:20260828T170000Z
DTEND:20260828T180000Z
DTSTAMP:20260421T035541Z
UID:kulvio-event-2531@kulvio.de
CATEGORIES:Tradition,Familienausflug,Geschichte
CREATED:20260419T151156Z
DESCRIPTION:Das Burgfest des Burgvereins Eppstein startet am Freitagabend 
 mit einem historischen Vortrag auf der Burgruine. Der Vortrag bietet Einbl
 icke in die Geschichte der fast 1000 Jahre alten Burg. Der Eintritt ist fr
 ei\, Spenden sind willkommen. Das Burgfest erstreckt sich über drei Tage 
 und zählt zu den Höhepunkten des Eppsteiner Veranstaltungsjahres.
GEO:50.14021;8.394826
LAST-MODIFIED:20260419T151452Z
LOCATION:Burg Eppstein\, Auf der Burg\, 65817\, Eppstein
STATUS:CONFIRMED
URL:https://kulvio.de/event/2531
END:VEVENT
END:VCALENDAR
