BEGIN:VCALENDAR
VERSION:2.0
PRODID:-//Kulvio Event Calendar//kulvio.de//
CALSCALE:GREGORIAN
METHOD:PUBLISH
BEGIN:VEVENT
SUMMARY:Burgfest Eppstein - Samstag
DTSTART:20260829T160000Z
DTEND:20260829T215900Z
DTSTAMP:20260421T035204Z
UID:kulvio-event-2532@kulvio.de
CATEGORIES:Stadtfest,Familienausflug,Tradition
CREATED:20260419T151156Z
DESCRIPTION:Am Samstag des Burgfests verwandelt sich die Burgruine Eppstei
 n in einen Festplatz mit Live-Musik\, einem Landsknechtslager und vielfäl
 tigen kulinarischen Angeboten. Wein-\, Sekt- und Cocktailstände laden zum
  Verweilen ein. Das Programm läuft von 18 Uhr bis Mitternacht und bietet 
 Stimmung auf der historischen Burg.
GEO:50.14021;8.394826
LAST-MODIFIED:20260419T151452Z
LOCATION:Burg Eppstein\, Auf der Burg\, 65817\, Eppstein
STATUS:CONFIRMED
URL:https://kulvio.de/event/2532
END:VEVENT
END:VCALENDAR
