BEGIN:VCALENDAR
VERSION:2.0
PRODID:-//Kulvio Event Calendar//kulvio.de//
CALSCALE:GREGORIAN
METHOD:PUBLISH
BEGIN:VEVENT
SUMMARY:Burgfest Eppstein - Familientag
DTSTART:20260830T070000Z
DTEND:20260830T080000Z
DTSTAMP:20260421T035136Z
UID:kulvio-event-2533@kulvio.de
CATEGORIES:Tradition,Familienausflug,Spielfest
CREATED:20260419T151156Z
DESCRIPTION:Der Familientag bildet den Abschluss des Burgfests auf der Bur
 gruine Eppstein. Ab 9 Uhr gibt es einen Kinderflohmarkt\, Puppentheater un
 d ein Programm für die ganze Familie. Dazu kommen Führungen durch das Bu
 rgmuseum und kulinarische Angebote. Der Tag lädt zum gemütlichen Beisamm
 ensein auf der historischen Burg ein.
GEO:50.14021;8.394826
LAST-MODIFIED:20260419T151452Z
LOCATION:Burg Eppstein\, Auf der Burg\, 65817\, Eppstein
STATUS:CONFIRMED
URL:https://kulvio.de/event/2533
END:VEVENT
END:VCALENDAR
