BEGIN:VCALENDAR
VERSION:2.0
PRODID:-//Kulvio Event Calendar//kulvio.de//
CALSCALE:GREGORIAN
METHOD:PUBLISH
BEGIN:VEVENT
SUMMARY:Daniel Helfrich: Ich hab mir gerade noch gefehlt
DTSTART:20260425T181500Z
DTEND:20260425T191500Z
DTSTAMP:20260421T042809Z
UID:kulvio-event-2534@kulvio.de
CATEGORIES:Kabarett
CREATED:20260419T151228Z
DESCRIPTION:Der Kabarettist und Pianist Daniel Helfrich gastiert mit seine
 m Programm Ich hab mir gerade noch gefehlt im Bürgerzentrum Niederhöchst
 adt in Eschborn. In seiner Klavierkabarett-Show verbindet er Musik\, Humor
  und scharfe Beobachtungen. Die Vorstellung beginnt um 20:15 Uhr\, Karten 
 kosten 15 Euro.
GEO:50.158712;8.550861
LAST-MODIFIED:20260419T151452Z
LOCATION:Bürgerzentrum Niederhöchstadt\, Montgeronplatz 1\, 65760\, Esch
 born
STATUS:CONFIRMED
URL:https://kulvio.de/event/2534
END:VEVENT
END:VCALENDAR
