BEGIN:VCALENDAR
VERSION:2.0
PRODID:-//Kulvio Event Calendar//kulvio.de//
CALSCALE:GREGORIAN
METHOD:PUBLISH
BEGIN:VEVENT
SUMMARY:OJC-Session: Oli Rubow - Soul you can't buy!
DTSTART:20260426T173000Z
DTEND:20260426T183000Z
DTSTAMP:20260421T042805Z
UID:kulvio-event-2535@kulvio.de
CATEGORIES:Konzert
CREATED:20260419T151228Z
DESCRIPTION:Der Schlagzeuger Oli Rubow präsentiert mit seinen Studierende
 n ein Jazz-Konzert unter dem Motto Soul you can't buy im Bürgerzentrum Ni
 ederhöchstadt. Die Session bietet Live-Jazz mit jungen Talenten und erfah
 renen Musikern. Die Veranstaltung beginnt um 19:30 Uhr\, der Eintritt ist 
 frei\, Hutspenden sind willkommen.
GEO:50.158712;8.550861
LAST-MODIFIED:20260419T151452Z
LOCATION:Bürgerzentrum Niederhöchstadt\, Montgeronplatz 1\, 65760\, Esch
 born
STATUS:CONFIRMED
URL:https://kulvio.de/event/2535
END:VEVENT
END:VCALENDAR
