BEGIN:VCALENDAR
VERSION:2.0
PRODID:-//Kulvio Event Calendar//kulvio.de//
CALSCALE:GREGORIAN
METHOD:PUBLISH
BEGIN:VEVENT
SUMMARY:Frankfurt liest ein Buch in Eschborn
DTSTART:20260429T170000Z
DTEND:20260429T180000Z
DTSTAMP:20260421T042806Z
UID:kulvio-event-2536@kulvio.de
CATEGORIES:Lesung
CREATED:20260419T151228Z
DESCRIPTION:Im Rahmen der Aktion Frankfurt liest ein Buch findet eine Lesu
 ng im Kleist Forum der Heinrich-von-Kleist-Schule in Eschborn statt. Die s
 tadtweite Leseaktion bringt Menschen zusammen\, um gemeinsam ein ausgewäh
 ltes Buch zu lesen und darüber ins Gespräch zu kommen. Die Veranstaltung
  ist offen für alle Interessierten.
GEO:50.148297;8.565335
LAST-MODIFIED:20260419T152110Z
LOCATION:Kleist Forum\, Dörnweg 53\, 65760\, Eschborn
STATUS:CONFIRMED
URL:https://kulvio.de/event/2536
END:VEVENT
END:VCALENDAR
