BEGIN:VCALENDAR
VERSION:2.0
PRODID:-//Kulvio Event Calendar//kulvio.de//
CALSCALE:GREGORIAN
METHOD:PUBLISH
BEGIN:VEVENT
SUMMARY:Heckstert rocks: Music Monks live in Eschborn
DTSTART:20260430T180000Z
DTEND:20260430T190000Z
DTSTAMP:20260421T042807Z
UID:kulvio-event-2537@kulvio.de
CATEGORIES:Konzert
CREATED:20260419T151228Z
DESCRIPTION:Die Music Monks gastieren mit ihrer Tribute-Show zu Seeed und 
 Peter Fox im Bürgerzentrum Niederhöchstadt. Im Rahmen der Konzertreihe H
 eckstert rocks bringt die Band Dancehall\, Reggae und Hip-Hop mit starker 
 Bläsersektion auf die Bühne. Als Support-Act spielt Leon for Murs. Karte
 n kosten 25 Euro und sind online oder bei Elektro Müller in Niederhöchst
 adt erhältlich.
GEO:50.158712;8.550861
LAST-MODIFIED:20260419T151452Z
LOCATION:Bürgerzentrum Niederhöchstadt\, Montgeronplatz 1\, 65760\, Esch
 born
STATUS:CONFIRMED
URL:https://kulvio.de/event/2537
END:VEVENT
END:VCALENDAR
