BEGIN:VCALENDAR
VERSION:2.0
PRODID:-//Kulvio Event Calendar//kulvio.de//
CALSCALE:GREGORIAN
METHOD:PUBLISH
BEGIN:VEVENT
SUMMARY:International Jazz Day: Johanna Summer Trio
DTSTART:20260430T181500Z
DTEND:20260430T191500Z
DTSTAMP:20260421T043150Z
UID:kulvio-event-2538@kulvio.de
CATEGORIES:Konzert
CREATED:20260419T151228Z
DESCRIPTION:Am International Jazz Day gastiert das Johanna Summer Trio im 
 Bürgerzentrum Niederhöchstadt in Eschborn. Die Pianistin Johanna Summer 
 gilt als eine der aufregendsten Stimmen der deutschen Jazzszene. Das Konze
 rt wird weltweit live gestreamt und beginnt um 20:15 Uhr. Karten kosten 15
  Euro.
GEO:50.158712;8.550861
LAST-MODIFIED:20260419T151452Z
LOCATION:Bürgerzentrum Niederhöchstadt\, Montgeronplatz 1\, 65760\, Esch
 born
STATUS:CONFIRMED
URL:https://kulvio.de/event/2538
END:VEVENT
END:VCALENDAR
