BEGIN:VCALENDAR
VERSION:2.0
PRODID:-//Kulvio Event Calendar//kulvio.de//
CALSCALE:GREGORIAN
METHOD:PUBLISH
BEGIN:VEVENT
SUMMARY:Eschenfest Eschborn - Samstag
DTSTART:20260516T120000Z
DTEND:20260516T210000Z
DTSTAMP:20260421T034510Z
UID:kulvio-event-2539@kulvio.de
CATEGORIES:Stadtfest
CREATED:20260419T151228Z
DESCRIPTION:Das Eschenfest ist das traditionelle Vereinsfest im Herzen von
  Eschborn. Rund um den Eschenplatz und den Rathausplatz bieten lokale Vere
 ine Speisen und Getränke an\, während auf mehreren Bühnen Live-Musik ge
 spielt wird. Dazu gibt es einen großen Kunsthandwerkermarkt im Museumshof
  und ein Kinderprogramm mit Straßenkünstlern und Akrobatik. Der Samstag 
 startet am Nachmittag.
GEO:50.143833;8.568706
LAST-MODIFIED:20260419T151543Z
LOCATION:Eschenplatz\, 65760\, Eschborn
STATUS:CONFIRMED
URL:https://kulvio.de/event/2539
END:VEVENT
END:VCALENDAR
