BEGIN:VCALENDAR
VERSION:2.0
PRODID:-//Kulvio Event Calendar//kulvio.de//
CALSCALE:GREGORIAN
METHOD:PUBLISH
BEGIN:VEVENT
SUMMARY:Eschenfest Eschborn - Sonntag
DTSTART:20260517T090000Z
DTEND:20260517T180000Z
DTSTAMP:20260421T035136Z
UID:kulvio-event-2540@kulvio.de
CATEGORIES:Stadtfest
CREATED:20260419T151228Z
DESCRIPTION:Der zweite Tag des Eschenfests bietet erneut ein buntes Progra
 mm rund um Eschenplatz und Rathausplatz in Eschborn. Lokale Vereine sorgen
  für kulinarische Vielfalt\, auf den Bühnen gibt es Live-Musik und Unter
 haltung. Im Museumshof laden Kunsthandwerker zum Stöbern ein\, und für K
 inder gibt es ein eigenes Bühnenprogramm. Der Sonntag startet am Vormitta
 g.
GEO:50.143833;8.568706
LAST-MODIFIED:20260419T151543Z
LOCATION:Eschenplatz\, 65760\, Eschborn
STATUS:CONFIRMED
URL:https://kulvio.de/event/2540
END:VEVENT
END:VCALENDAR
