BEGIN:VCALENDAR
VERSION:2.0
PRODID:-//Kulvio Event Calendar//kulvio.de//
CALSCALE:GREGORIAN
METHOD:PUBLISH
BEGIN:VEVENT
SUMMARY:Niederhöchstädter Markt - Freitag
DTSTART:20260807T160000Z
DTEND:20260807T210000Z
DTSTAMP:20260421T034740Z
UID:kulvio-event-2541@kulvio.de
CATEGORIES:Stadtfest,Tradition
CREATED:20260419T151228Z
DESCRIPTION:Der Niederhöchstädter Markt zählt zu den gemütlichsten Fes
 ten im Main-Taunus-Kreis. Entlang der Hauptstraße im Stadtteil Niederhöc
 hstadt präsentieren sich lokale Vereine in Höfen und Gärten mit Speisen
 \, Getränken und Programm. Das Fest findet nur alle zwei Jahre statt und 
 startet am Freitag am Abend.
GEO:50.157897;8.547219
LAST-MODIFIED:20260419T151543Z
LOCATION:Hauptstraße\, Niederhöchstadt\, 65760\, Eschborn
STATUS:CONFIRMED
URL:https://kulvio.de/event/2541
END:VEVENT
END:VCALENDAR
