BEGIN:VCALENDAR
VERSION:2.0
PRODID:-//Kulvio Event Calendar//kulvio.de//
CALSCALE:GREGORIAN
METHOD:PUBLISH
BEGIN:VEVENT
SUMMARY:Niederhöchstädter Markt - Samstag
DTSTART:20260808T120000Z
DTEND:20260808T210000Z
DTSTAMP:20260421T043145Z
UID:kulvio-event-2542@kulvio.de
CATEGORIES:Stadtfest,Tradition
CREATED:20260419T151228Z
DESCRIPTION:Am Samstag erreicht der Niederhöchstädter Markt seinen Höhe
 punkt. In den Höfen entlang der Hauptstraße bieten Vereine und Anwohner 
 ein abwechslungsreiches Programm mit Musik\, Kulinarik und Geselligkeit. D
 as Fest gehört zu den beliebtesten Veranstaltungen in Eschborn und läuft
  den ganzen Tag.
GEO:50.157897;8.547219
LAST-MODIFIED:20260419T151543Z
LOCATION:Hauptstraße\, Niederhöchstadt\, 65760\, Eschborn
STATUS:CONFIRMED
URL:https://kulvio.de/event/2542
END:VEVENT
END:VCALENDAR
