BEGIN:VCALENDAR
VERSION:2.0
PRODID:-//Kulvio Event Calendar//kulvio.de//
CALSCALE:GREGORIAN
METHOD:PUBLISH
BEGIN:VEVENT
SUMMARY:Niederhöchstädter Markt - Sonntag
DTSTART:20260809T090000Z
DTEND:20260809T170000Z
DTSTAMP:20260421T042824Z
UID:kulvio-event-2543@kulvio.de
CATEGORIES:Stadtfest,Tradition
CREATED:20260419T151228Z
DESCRIPTION:Am Sonntag klingt der Niederhöchstädter Markt gemütlich aus
 . Die Höfe entlang der Hauptstraße laden zum letzten Mal zum Verweilen e
 in\, mit Kaffee und Kuchen\, Musik und Programm für Familien. Das Fest fi
 ndet nur alle zwei Jahre statt und ist eine feste Tradition in Eschborn.
GEO:50.157897;8.547219
LAST-MODIFIED:20260419T151543Z
LOCATION:Hauptstraße\, Niederhöchstadt\, 65760\, Eschborn
STATUS:CONFIRMED
URL:https://kulvio.de/event/2543
END:VEVENT
END:VCALENDAR
