BEGIN:VCALENDAR
VERSION:2.0
PRODID:-//Kulvio Event Calendar//kulvio.de//
CALSCALE:GREGORIAN
METHOD:PUBLISH
BEGIN:VEVENT
SUMMARY:Weihnachtsmarkt Eschborn - Samstag
DTSTART:20261205T140000Z
DTEND:20261205T200000Z
DTSTAMP:20260421T081553Z
UID:kulvio-event-2544@kulvio.de
CATEGORIES:Weihnachtsmarkt
CREATED:20260419T151228Z
DESCRIPTION:Der Eschborner Weihnachtsmarkt findet am zweiten Adventswochen
 ende auf dem Eschenplatz statt. Vereine aus Eschborn und Niederhöchstadt 
 verkaufen an zahlreichen Ständen Weihnachtsdekoration\, Geschenke und kul
 inarische Spezialitäten. Heißgetränke und Leckereien sorgen für vorwei
 hnachtliche Stimmung. Der Samstag läuft von nachmittags bis in den Abend.
GEO:50.143833;8.568706
LAST-MODIFIED:20260419T151618Z
LOCATION:Eschenplatz\, 65760\, Eschborn
STATUS:CONFIRMED
URL:https://kulvio.de/event/2544
END:VEVENT
END:VCALENDAR
