BEGIN:VCALENDAR
VERSION:2.0
PRODID:-//Kulvio Event Calendar//kulvio.de//
CALSCALE:GREGORIAN
METHOD:PUBLISH
BEGIN:VEVENT
SUMMARY:Weihnachtsmarkt Eschborn - Sonntag
DTSTART:20261206T110000Z
DTEND:20261206T180000Z
DTSTAMP:20260421T035110Z
UID:kulvio-event-2545@kulvio.de
CATEGORIES:Weihnachtsmarkt
CREATED:20260419T151228Z
DESCRIPTION:Am zweiten Adventssonntag lädt der Eschborner Weihnachtsmarkt
  zum gemütlichen Bummel über den Eschenplatz ein. Vereine bieten an ihre
 n Ständen Weihnachtliches und Kulinarisches an\, begleitet von einem musi
 kalischen Rahmenprogramm. Der Sonntag bietet Gelegenheit zum entspannten B
 eisammensein in vorweihnachtlicher Atmosphäre.
GEO:50.143833;8.568706
LAST-MODIFIED:20260419T151618Z
LOCATION:Eschenplatz\, 65760\, Eschborn
STATUS:CONFIRMED
URL:https://kulvio.de/event/2545
END:VEVENT
END:VCALENDAR
