BEGIN:VCALENDAR
VERSION:2.0
PRODID:-//Kulvio Event Calendar//kulvio.de//
CALSCALE:GREGORIAN
METHOD:PUBLISH
BEGIN:VEVENT
SUMMARY:10. Rhein-Main Genuss- und Gartenfest
DTSTART:20260502T080000Z
DTEND:20260502T160000Z
DTSTAMP:20260421T042500Z
UID:kulvio-event-2547@kulvio.de
CATEGORIES:Saisonmarkt,Tasting
CREATED:20260419T151533Z
DESCRIPTION:Das 10. Rhein-Main Genuss- und Gartenfest verwandelt das Schlo
 ssgelände in Heusenstamm in eine Messe für Gartenliebhaber und Feinschme
 cker. Über 120 Aussteller aus verschiedenen Sparten präsentieren ihre Pr
 odukte rund um Garten\, Genuss und Kunsthandwerk. An rund 20 Ständen im S
 chlosshof und rund um den Bannturm bieten internationale Köche kulinarisc
 he Spezialitäten an. Das dreitägige Fest auf dem historischen Schlossgel
 ände ist für die ganze Familie geeignet. Kinder bis 13 Jahre haben freie
 n Eintritt.
GEO:50.062628;8.807535
LAST-MODIFIED:20260419T152351Z
LOCATION:Schloss Heusenstamm\, Im Herrngarten 1\, 63150\, Heusenstamm
STATUS:CONFIRMED
URL:https://kulvio.de/event/2547
END:VEVENT
END:VCALENDAR
