BEGIN:VCALENDAR
VERSION:2.0
PRODID:-//Kulvio Event Calendar//kulvio.de//
CALSCALE:GREGORIAN
METHOD:PUBLISH
BEGIN:VEVENT
SUMMARY:Bahnhofsfest — Auftakt Heusenstammer Sommer
DTSTART:20260510T100000Z
DTEND:20260510T200000Z
DTSTAMP:20260421T041936Z
UID:kulvio-event-2549@kulvio.de
CATEGORIES:Stadtfest
CREATED:20260419T151533Z
DESCRIPTION:Das Bahnhofsfest eröffnet offiziell den Heusenstammer Sommer 
 und lockt Besucherinnen und Besucher auf den Bahnhofsplatz. Von mittags bi
 s in den Abend erwartet die Gäste ein abwechslungsreiches Programm für d
 ie ganze Familie mit Musik\, Unterhaltung und gastronomischen Angeboten. E
 in traditioneller ökumenischer Gottesdienst mit musikalischer Begleitung 
 bildet einen festen Bestandteil des Festes. Der Eintritt ist frei und alle
  Altersgruppen sind willkommen.
GEO:50.060122;8.802749
LAST-MODIFIED:20260419T151855Z
LOCATION:Bahnhofsplatz\, 63150\, Heusenstamm
STATUS:CONFIRMED
URL:https://kulvio.de/event/2549
END:VEVENT
END:VCALENDAR
