BEGIN:VCALENDAR
VERSION:2.0
PRODID:-//Kulvio Event Calendar//kulvio.de//
CALSCALE:GREGORIAN
METHOD:PUBLISH
BEGIN:VEVENT
SUMMARY:Internationaler Museumstag im Sammlungsdepot Heusenstamm
DTSTART:20260517T080000Z
DTEND:20260517T150000Z
DTSTAMP:20260421T042500Z
UID:kulvio-event-2550@kulvio.de
CATEGORIES:Ausstellung,Geschichte
CREATED:20260419T151533Z
DESCRIPTION:Am Internationalen Museumstag öffnet das Sammlungsdepot des M
 useums für Kommunikation Frankfurt in Heusenstamm seine Türen für die 
 Öffentlichkeit. Auf dem weitläufigen Gelände erwarten die Besucherinnen
  und Besucher rund 375.000 Objekte aus der Post- und Telekommunikationsges
 chichte. Historische Postfahrzeuge werden bei einem internationalen Treffe
 n mit Oldtimer-Schau präsentiert und eine historische Postkutsche lädt z
 u Fahrten ein. Kinder können auf einer Depotrallye das Sammlungsdepot spi
 elerisch erkunden. Der Eintritt ist frei.
GEO:50.049802;8.797021
LAST-MODIFIED:20260419T151555Z
LOCATION:Museum für Kommunikation Sammlungsdepot\, Philipp-Reis-Straße 4
 -8\, 63150\, Heusenstamm
STATUS:CONFIRMED
URL:https://kulvio.de/event/2550
END:VEVENT
END:VCALENDAR
