BEGIN:VCALENDAR
VERSION:2.0
PRODID:-//Kulvio Event Calendar//kulvio.de//
CALSCALE:GREGORIAN
METHOD:PUBLISH
BEGIN:VEVENT
SUMMARY:Uffguss — Komödie auf der Schlossbühne
DTSTART:20260523T173000Z
DTEND:20260523T183000Z
DTSTAMP:20260421T043141Z
UID:kulvio-event-2551@kulvio.de
CATEGORIES:Comedy,Theater
CREATED:20260419T151533Z
DESCRIPTION:Die Boulevardkomödie Uffguss des Mund Art Theaters gastiert a
 uf der Schlossbühne am Bannturm in Heusenstamm. In dem Stück von René H
 einersdorff dreht sich eine turbulente Geschichte rund um Kinderwunsch\, W
 ellnesshotel und eine folgenschwere Verwechslung. Die Pläne eines erfolgr
 eichen Waschmittelherstellers geraten dabei gründlich aus dem Ruder und s
 orgen für reichlich Komik in zwei Akten. Einlass und Bewirtung beginnen a
 b 18:00 Uhr mit freier Platzwahl an den Tischen. Tickets sind über Frankf
 urt Ticket sowie in der Buchhandlung Das Buch und am Rathausempfang erhäl
 tlich.
GEO:50.062628;8.807535
LAST-MODIFIED:20260419T151555Z
LOCATION:Schloss Heusenstamm\, Im Herrngarten 1\, 63150\, Heusenstamm
STATUS:CONFIRMED
URL:https://kulvio.de/event/2551
END:VEVENT
END:VCALENDAR
