BEGIN:VCALENDAR
VERSION:2.0
PRODID:-//Kulvio Event Calendar//kulvio.de//
CALSCALE:GREGORIAN
METHOD:PUBLISH
BEGIN:VEVENT
SUMMARY:Dankeschön! — Konzert zum 100. Geburtstag von Peter Alexander
DTSTART:20260607T160000Z
DTEND:20260607T170000Z
DTSTAMP:20260421T042434Z
UID:kulvio-event-2552@kulvio.de
CATEGORIES:Konzert,Show
CREATED:20260419T151533Z
DESCRIPTION:Anlässlich des 100. Geburtstags von Peter Alexander präsenti
 ert das Mund Art Theater einen Konzertabend auf der Schlossbühne am Bannt
 urm in Heusenstamm. Unter dem Titel Dankeschön erklingen die bekanntesten
  Melodien aus dem Repertoire des österreichischen Ausnahmekünstlers. Mod
 eriert wird der Abend von Intendant Thorsten Wszolek\, musikalisch gestalt
 et von Solistinnen\, Solisten und dem Mainhattan Pops Orchester. Einlass u
 nd Bewirtung beginnen ab 16:30 Uhr mit freier Platzwahl an den Tischen. Ti
 ckets sind über Frankfurt Ticket sowie in der Buchhandlung Das Buch und a
 m Rathausempfang erhältlich.
GEO:50.062628;8.807535
LAST-MODIFIED:20260419T151555Z
LOCATION:Schloss Heusenstamm\, Im Herrngarten 1\, 63150\, Heusenstamm
STATUS:CONFIRMED
URL:https://kulvio.de/event/2552
END:VEVENT
END:VCALENDAR
