BEGIN:VCALENDAR
VERSION:2.0
PRODID:-//Kulvio Event Calendar//kulvio.de//
CALSCALE:GREGORIAN
METHOD:PUBLISH
BEGIN:VEVENT
SUMMARY:Die Schule der Frauen — Molière uff Hessisch
DTSTART:20260625T180000Z
DTEND:20260625T190000Z
DTSTAMP:20260421T043151Z
UID:kulvio-event-2554@kulvio.de
CATEGORIES:Theater,Comedy
CREATED:20260419T151533Z
DESCRIPTION:Die Komödie Die Schule der Frauen nach Molière gastiert als 
 Mundartfassung von Wolfgang Deichsel auf der Schlossbühne am Bannturm in 
 Heusenstamm. Michael Quast spielt gemeinsam mit dem Ensemble Barock am Mai
 n der Fliegenden Volksbühne Frankfurt die Geschichte eines Mannes\, der s
 ich eine ideale Ehefrau erziehen will und dabei an weiblicher Klugheit sch
 eitert. Die explosive Mischung aus strenger Versform und hessischer Mundar
 t bringt den Klassiker nah an die Gegenwart. Fünf Vorstellungen finden vo
 n Mittwoch bis Sonntag statt.
GEO:50.062628;8.807535
LAST-MODIFIED:20260419T151555Z
LOCATION:Schloss Heusenstamm\, Im Herrngarten 1\, 63150\, Heusenstamm
STATUS:CONFIRMED
URL:https://kulvio.de/event/2554
END:VEVENT
END:VCALENDAR
