BEGIN:VCALENDAR
VERSION:2.0
PRODID:-//Kulvio Event Calendar//kulvio.de//
CALSCALE:GREGORIAN
METHOD:PUBLISH
BEGIN:VEVENT
SUMMARY:Die Schule der Frauen — Molière uff Hessisch (Dernière)
DTSTART:20260628T170000Z
DTEND:20260628T180000Z
DTSTAMP:20260421T042947Z
UID:kulvio-event-2557@kulvio.de
CATEGORIES:Theater,Comedy
CREATED:20260419T151533Z
DESCRIPTION:Die Komödie Die Schule der Frauen nach Molière gastiert als 
 Mundartfassung von Wolfgang Deichsel auf der Schlossbühne am Bannturm in 
 Heusenstamm. Michael Quast spielt gemeinsam mit dem Ensemble Barock am Mai
 n der Fliegenden Volksbühne Frankfurt die Geschichte eines Mannes\, der s
 ich eine ideale Ehefrau erziehen will und dabei an weiblicher Klugheit sch
 eitert. Die explosive Mischung aus strenger Versform und hessischer Mundar
 t bringt den Klassiker nah an die Gegenwart. Diese Sonntagsvorstellung ist
  zugleich die letzte Aufführung des Gastspiels in Heusenstamm.
GEO:50.062628;8.807535
LAST-MODIFIED:20260419T151555Z
LOCATION:Schloss Heusenstamm\, Im Herrngarten 1\, 63150\, Heusenstamm
STATUS:CONFIRMED
URL:https://kulvio.de/event/2557
END:VEVENT
END:VCALENDAR
