BEGIN:VCALENDAR
VERSION:2.0
PRODID:-//Kulvio Event Calendar//kulvio.de//
CALSCALE:GREGORIAN
METHOD:PUBLISH
BEGIN:VEVENT
SUMMARY:Weintage Rembrücken
DTSTART:20260712T100000Z
DTEND:20260712T200000Z
DTSTAMP:20260421T042947Z
UID:kulvio-event-2560@kulvio.de
CATEGORIES:Tasting,Stadtfest
CREATED:20260419T151533Z
DESCRIPTION:Die Weintage Rembrücken verwandeln den Dorfplatz vor der Alte
 n Schule an der Hauptstraße in einen Treffpunkt für Wein- und Genussfreu
 nde. An drei Tagen können Besucherinnen und Besucher eine Auswahl feiner 
 Weine aus der Region verkosten\, begleitet von kulinarischen Angeboten lok
 aler Anbieter. Auf einer Bühne sorgt an allen Tagen Live-Musik für stimm
 ungsvolle Unterhaltung. Der Eintritt zum Festgelände ist frei\, Speisen u
 nd Getränke werden vor Ort angeboten.
GEO:50.044537;8.849935
LAST-MODIFIED:20260419T151910Z
LOCATION:Dorfplatz vor der Alten Schule\, Hauptstraße\, Rembrücken\, 631
 50\, Heusenstamm
STATUS:CONFIRMED
URL:https://kulvio.de/event/2560
END:VEVENT
END:VCALENDAR
