BEGIN:VCALENDAR
VERSION:2.0
PRODID:-//Kulvio Event Calendar//kulvio.de//
CALSCALE:GREGORIAN
METHOD:PUBLISH
BEGIN:VEVENT
SUMMARY:Open-Air-Kino im Bad Heusenstamm
DTSTART:20260731T180000Z
DTEND:20260731T190000Z
DTSTAMP:20260421T043145Z
UID:kulvio-event-2561@kulvio.de
CATEGORIES:Kino,Open-Air
CREATED:20260419T151533Z
DESCRIPTION:Das Open-Air-Kino im Bad Heusenstamm zeigt Filme unter freiem 
 Himmel auf dem Gelände des Freibads an der Jahnstraße. Besucherinnen und
  Besucher können es sich mit Picknickdecken und eigenen Sitzgelegenheiten
  auf der Liegewiese gemütlich machen oder auf der Terrasse Platz nehmen. 
 Der Einlass beginnt um 20:00 Uhr\, der Film startet bei Einbruch der Dunke
 lheit gegen 21:00 Uhr. Das gastronomische Angebot des Bades steht während
  der Veranstaltung zur Verfügung.
GEO:50.062997;8.801038
LAST-MODIFIED:20260419T151555Z
LOCATION:Bad Heusenstamm\, Jahnstraße 50\, 63150\, Heusenstamm
STATUS:CONFIRMED
URL:https://kulvio.de/event/2561
END:VEVENT
END:VCALENDAR
