BEGIN:VCALENDAR
VERSION:2.0
PRODID:-//Kulvio Event Calendar//kulvio.de//
CALSCALE:GREGORIAN
METHOD:PUBLISH
BEGIN:VEVENT
SUMMARY:Weißes Dinner im Schlossgarten
DTSTART:20260815T170000Z
DTEND:20260815T180000Z
DTSTAMP:20260421T082220Z
UID:kulvio-event-2563@kulvio.de
CATEGORIES:Nachbarschaft,Open-Air
CREATED:20260419T151533Z
DESCRIPTION:Das Weiße Dinner im Schlossgarten verwandelt den barocken Gar
 ten des Schlosses in Heusenstamm in ein elegantes Open-Air-Fest. Ganz in W
 eiß gekleidet bringen die Gäste eigenes Essen und Getränke mit und pick
 nicken stilvoll unter dem Abendhimmel. Livemusik begleitet den Abend und s
 chafft eine besondere Atmosphäre im historischen Schlossgarten. Die Veran
 staltung ist eine der beliebtesten im Programm des Heusenstammer Sommers u
 nd zieht Besucherinnen und Besucher aus der gesamten Region an.
GEO:50.062628;8.807535
LAST-MODIFIED:20260419T151555Z
LOCATION:Schloss Heusenstamm\, Im Herrngarten 1\, 63150\, Heusenstamm
STATUS:CONFIRMED
URL:https://kulvio.de/event/2563
END:VEVENT
END:VCALENDAR
