BEGIN:VCALENDAR
VERSION:2.0
PRODID:-//Kulvio Event Calendar//kulvio.de//
CALSCALE:GREGORIAN
METHOD:PUBLISH
BEGIN:VEVENT
SUMMARY:Heusenstammer Weinfest
DTSTART:20260820T140000Z
DTEND:20260820T200000Z
DTSTAMP:20260421T042435Z
UID:kulvio-event-2565@kulvio.de
CATEGORIES:Tasting,Stadtfest
CREATED:20260419T151533Z
DESCRIPTION:Das Heusenstammer Weinfest findet seit 1996 in der historische
 n Kulisse des Schlosses statt und hat sich zu einem beliebten Treffpunkt i
 m Rhein-Main-Gebiet entwickelt. An sechs Tagen bieten über 20 Wein-\, Get
 ränke- und Essensstände eine vielfältige Auswahl an Weinen aus Hessen\,
  Baden-Württemberg\, Bayern und Rheinland-Pfalz sowie kulinarische Spezia
 litäten wie Spundekäs\, Laugenbrezeln und Flammkuchen. Ein täglich wech
 selndes musikalisches Rahmenprogramm sorgt für Unterhaltung. Die Eröffnu
 ng am ersten Abend erfolgt traditionell durch den Bürgermeister und die W
 einkönigin.
GEO:50.062628;8.807535
LAST-MODIFIED:20260419T152351Z
LOCATION:Schloss Heusenstamm\, Im Herrngarten 1\, 63150\, Heusenstamm
STATUS:CONFIRMED
URL:https://kulvio.de/event/2565
END:VEVENT
END:VCALENDAR
