BEGIN:VCALENDAR
VERSION:2.0
PRODID:-//Kulvio Event Calendar//kulvio.de//
CALSCALE:GREGORIAN
METHOD:PUBLISH
BEGIN:VEVENT
SUMMARY:Kerb Rembrücken
DTSTART:20260914T120000Z
DTEND:20260914T210000Z
DTSTAMP:20260421T042425Z
UID:kulvio-event-2572@kulvio.de
CATEGORIES:Stadtfest,Tradition
CREATED:20260419T151533Z
DESCRIPTION:Die Rembrücker Kerb findet traditionsgemäß am zweiten Septe
 mberwochenende statt und verwandelt den Dorfplatz vor der Alten Schule im 
 alten Ortskern in einen Festplatz. Ausgerichtet wird die Kerb vom Turnvere
 in Rembrücken 1895\, der das Fest traditionell mit dem Aufstellen des Ker
 bbaums eröffnet\, auf dem der Kerbborsch thront. Von Samstag bis Montag e
 rwartet die Gäste ein Volksfest mit Musik\, Bewirtung und geselligem Beis
 ammensein. Die Eröffnung erfolgt durch den Heusenstammer Bürgermeister\,
  den Kerbborsch und den Vereinsvorsitzenden.
GEO:50.044537;8.849935
LAST-MODIFIED:20260419T151748Z
LOCATION:Dorfplatz vor der Alten Schule\, Hauptstraße\, Rembrücken\, 631
 50\, Heusenstamm
STATUS:CONFIRMED
URL:https://kulvio.de/event/2572
END:VEVENT
END:VCALENDAR
