BEGIN:VCALENDAR
VERSION:2.0
PRODID:-//Kulvio Event Calendar//kulvio.de//
CALSCALE:GREGORIAN
METHOD:PUBLISH
BEGIN:VEVENT
SUMMARY:Kerb Heusenstamm
DTSTART:20260918T120000Z
DTEND:20260918T210000Z
DTSTAMP:20260421T035111Z
UID:kulvio-event-2573@kulvio.de
CATEGORIES:Stadtfest,Tradition
CREATED:20260419T151533Z
DESCRIPTION:Die Heusenstammer Kerb wird jährlich am dritten Septemberwoch
 enende auf dem Kirchplatz gefeiert. Das Kerb-Komitee aus Mitgliedern des R
 ugby-Klubs Heusenstamm\, dem Karneval Klub Disharmonie\, der TSV Heusensta
 mm und der Katholischen Jugend gestaltet an drei Tagen ein buntes Volksfes
 t mit wechselnden Tagesmottos. Entlang der Frankfurter Straße rund um den
  Torbau laden Fahrgeschäfte\, Buden und Essensstände zum Verweilen ein. 
 Der Fassanstich durch den Bürgermeister und musikalische Unterhaltung er
 öffnen das Fest am Freitagnachmittag.
GEO:50.059183;8.805405
LAST-MODIFIED:20260419T151748Z
LOCATION:Kirchplatz / Frankfurter Straße\, 63150\, Heusenstamm
STATUS:CONFIRMED
URL:https://kulvio.de/event/2573
END:VEVENT
END:VCALENDAR
