BEGIN:VCALENDAR
VERSION:2.0
PRODID:-//Kulvio Event Calendar//kulvio.de//
CALSCALE:GREGORIAN
METHOD:PUBLISH
BEGIN:VEVENT
SUMMARY:38. Heusenstammer Tanztee
DTSTART:20260426T130000Z
DTEND:20260426T150000Z
DTSTAMP:20260421T034734Z
UID:kulvio-event-2576@kulvio.de
CATEGORIES:Tanz
CREATED:20260419T152322Z
DESCRIPTION:Die Stadtkapelle 1908 Heusenstamm lädt zum 38. Heusenstammer 
 Tanztee in den Saal für Vereine in der Rembrücker Straße ein. Das Swing
 -Orchester spielt live zum Tanzen auf\, begleitet von Kaffee und Kuchen. D
 er Saal öffnet um 14:30 Uhr\, die Tanzrunden beginnen um 15 Uhr und dauer
 n bis 17 Uhr. Der Tanztee bietet Gesellschaftstanz in entspannter Atmosph
 äre und richtet sich an alle Altersgruppen und Könnensstufen. Die Stadtk
 apelle pflegt seit über hundert Jahren die musikalische Tradition in Heus
 enstamm und hat den Tanztee als regelmäßiges Format etabliert. Der Eintr
 itt kostet 10 Euro.
GEO:50.05964;8.812109
LAST-MODIFIED:20260419T153550Z
LOCATION:Saal für Vereine\, Rembrücker Straße 2-4\, 63150\, Heusenstamm
STATUS:CONFIRMED
URL:https://kulvio.de/event/2576
END:VEVENT
END:VCALENDAR
