BEGIN:VCALENDAR
VERSION:2.0
PRODID:-//Kulvio Event Calendar//kulvio.de//
CALSCALE:GREGORIAN
METHOD:PUBLISH
BEGIN:VEVENT
SUMMARY:Maifest Rembrücken
DTSTART:20260501T090000Z
DTEND:20260501T100000Z
DTSTAMP:20260421T043151Z
UID:kulvio-event-2577@kulvio.de
CATEGORIES:Stadtfest
CREATED:20260419T152322Z
DESCRIPTION:Das traditionelle Maifest im Heusenstammer Stadtteil Rembrück
 en bietet am Feiertag ab 11 Uhr ein geselliges Beisammensein im Festzelt h
 inter der katholischen Kirche an der Hauptstraße. Frisch gezapftes Bier\,
  Steaks und Würstchen vom Grill\, Pommes\, Salate sowie Kaffee und Kuchen
  stehen auf dem Programm. Das Fest ist ein beliebter Treffpunkt für Famil
 ien und Nachbarn aus dem Stadtteil und findet bei jedem Wetter im geschüt
 zten Festzelt statt. Das Maifest gehört zu den ältesten Traditionen in R
 embrücken und markiert den Beginn der Freiluftsaison im Ort.
GEO:50.044537;8.849935
LAST-MODIFIED:20260419T153550Z
LOCATION:Hauptstraße\, Rembrücken\, 63150\, Heusenstamm
STATUS:CONFIRMED
URL:https://kulvio.de/event/2577
END:VEVENT
END:VCALENDAR
