BEGIN:VCALENDAR
VERSION:2.0
PRODID:-//Kulvio Event Calendar//kulvio.de//
CALSCALE:GREGORIAN
METHOD:PUBLISH
BEGIN:VEVENT
SUMMARY:Vatertagsfest am Schermsee
DTSTART:20260514T090000Z
DTEND:20260514T100000Z
DTSTAMP:20260421T085043Z
UID:kulvio-event-2578@kulvio.de
CATEGORIES:Stadtfest
CREATED:20260419T152322Z
DESCRIPTION:Der Sportfischerverein Heusenstamm lädt zum Vatertagsfest an 
 den Schermsee ein. Am Christi-Himmelfahrt-Feiertag können Besucher in idy
 llischer Lage am Vereinsgewässer zusammenkommen und den Tag bei Essen und
  Getränken genießen. Am Vereinshaus mit Blick auf den See gibt es Grills
 pezialitäten\, Salate und frisch Gezapftes. Das Fest am Schermsee ist ein
 e jährliche Tradition des Angelvereins und bietet Familien und Ausflügle
 rn eine willkommene Station am Feiertag. Der Schermsee liegt an der Rembr
 ücker Straße und ist zu Fuß oder mit dem Rad gut erreichbar. Der Eintri
 tt zum Fest ist frei.
GEO:50.053054;8.839973
LAST-MODIFIED:20260419T153550Z
LOCATION:Rembrücker Weg\, 63179\, Obertshausen
STATUS:CONFIRMED
URL:https://kulvio.de/event/2578
END:VEVENT
END:VCALENDAR
